BEGIN:VCALENDAR
VERSION:2.0
PRODID:-//Step By Step Lexington - ECPv6.11.2.1//NONSGML v1.0//EN
CALSCALE:GREGORIAN
METHOD:PUBLISH
X-ORIGINAL-URL:http://sbslex.org
X-WR-CALDESC:Events for Step By Step Lexington
REFRESH-INTERVAL;VALUE=DURATION:PT1H
X-Robots-Tag:noindex
X-PUBLISHED-TTL:PT1H
BEGIN:VTIMEZONE
TZID:America/Kentucky/Louisville
BEGIN:DAYLIGHT
TZOFFSETFROM:-0500
TZOFFSETTO:-0400
TZNAME:EDT
DTSTART:20210314T070000
END:DAYLIGHT
BEGIN:STANDARD
TZOFFSETFROM:-0400
TZOFFSETTO:-0500
TZNAME:EST
DTSTART:20211107T060000
END:STANDARD
END:VTIMEZONE
BEGIN:VEVENT
DTSTART;TZID=America/Kentucky/Louisville:20210701T193000
DTEND;TZID=America/Kentucky/Louisville:20210701T203000
DTSTAMP:20260419T103305
CREATED:20210609T155715Z
LAST-MODIFIED:20210609T155837Z
UID:108863-1625167800-1625171400@sbslex.org
SUMMARY:Online Revive
DESCRIPTION:Join us for a time of community and connection with other young single moms. \nTo get info about joining Online Revive\, sign up here. \nIf you are new to Step By Step\, fill out the registration form here.
URL:http://sbslex.org/events/online-revive14/
LOCATION:Online
CATEGORIES:For Moms
END:VEVENT
BEGIN:VEVENT
DTSTART;TZID=America/Kentucky/Louisville:20210708T193000
DTEND;TZID=America/Kentucky/Louisville:20210708T203000
DTSTAMP:20260419T103305
CREATED:20210609T164139Z
LAST-MODIFIED:20210609T164139Z
UID:108872-1625772600-1625776200@sbslex.org
SUMMARY:Online Revive
DESCRIPTION:Join us for a time of community and connection with other young single moms. \nTo get info about joining Online Revive\, sign up here. \nIf you are new to Step By Step\, fill out the registration form here.
URL:http://sbslex.org/events/online-revive15/
LOCATION:Online
CATEGORIES:For Moms
END:VEVENT
BEGIN:VEVENT
DTSTART;TZID=America/Kentucky/Louisville:20210715T193000
DTEND;TZID=America/Kentucky/Louisville:20210715T203000
DTSTAMP:20260419T103305
CREATED:20210609T164210Z
LAST-MODIFIED:20210609T164210Z
UID:108874-1626377400-1626381000@sbslex.org
SUMMARY:Online Revive
DESCRIPTION:Join us for a time of community and connection with other young single moms. \nTo get info about joining Online Revive\, sign up here. \nIf you are new to Step By Step\, fill out the registration form here.
URL:http://sbslex.org/events/online-revive16/
LOCATION:Online
CATEGORIES:For Moms
END:VEVENT
BEGIN:VEVENT
DTSTART;TZID=America/Kentucky/Louisville:20210722T183000
DTEND;TZID=America/Kentucky/Louisville:20210722T200000
DTSTAMP:20260419T103305
CREATED:20210609T163952Z
LAST-MODIFIED:20210609T163952Z
UID:108868-1626978600-1626984000@sbslex.org
SUMMARY:Summer Revive Cook-Out
DESCRIPTION:Come enjoy a fun night with your SBS Sisters! This will be an outdoor event at Immanuel Baptist. We will be in the back pavilion by the baseball field. We will have activities for kids in the gated baseball field\, there is also a gated playground. In addition to activities for the kids\, we will have food and activities to help get to know your SBS Sisters. \nDue to covid restrictions\, we are not able to provide transportation\, but we can provide a bus pass for anyone who needs one. We will be following covid guidelines and request everyone ages 5 and up wear a mask and remain socially distanced. \nFor more info\, call our office at 859.258.7837.
URL:http://sbslex.org/events/summer-revive-cook-out-2/
LOCATION:Immanuel Baptist Church\, 3100 Tates Creek Road\, Lexington\, KY\, 40502\, United States
CATEGORIES:For Moms
END:VEVENT
BEGIN:VEVENT
DTSTART;TZID=America/Kentucky/Louisville:20210729T190000
DTEND;TZID=America/Kentucky/Louisville:20210729T193000
DTSTAMP:20260419T103305
CREATED:20210609T165100Z
LAST-MODIFIED:20210609T165100Z
UID:108886-1627585200-1627587000@sbslex.org
SUMMARY:Revive Kids Story Time
DESCRIPTION:Join us online for story and craft time with our librarian\, Ms. Mary\, in partnership with the Lexington Public Library! \nFor information on joining and receiving craft supplies\, call our office at 859.258.7837.
URL:http://sbslex.org/events/revive-kids-story-time/
CATEGORIES:For Moms
END:VEVENT
BEGIN:VEVENT
DTSTART;TZID=America/Kentucky/Louisville:20210729T193000
DTEND;TZID=America/Kentucky/Louisville:20210729T203000
DTSTAMP:20260419T103305
CREATED:20210609T164237Z
LAST-MODIFIED:20210609T164335Z
UID:108876-1627587000-1627590600@sbslex.org
SUMMARY:Online Revive
DESCRIPTION:Join us for a time of community and connection with other young single moms. \nTo get info about joining Online Revive\, sign up here. \nIf you are new to Step By Step\, fill out the registration form here.
URL:http://sbslex.org/events/online-revive17/
LOCATION:Online
CATEGORIES:For Moms
END:VEVENT
END:VCALENDAR