BEGIN:VCALENDAR
VERSION:2.0
PRODID:-//Step By Step Lexington - ECPv6.11.2.1//NONSGML v1.0//EN
CALSCALE:GREGORIAN
METHOD:PUBLISH
X-ORIGINAL-URL:http://sbslex.org
X-WR-CALDESC:Events for Step By Step Lexington
REFRESH-INTERVAL;VALUE=DURATION:PT1H
X-Robots-Tag:noindex
X-PUBLISHED-TTL:PT1H
BEGIN:VTIMEZONE
TZID:America/Kentucky/Louisville
BEGIN:DAYLIGHT
TZOFFSETFROM:-0500
TZOFFSETTO:-0400
TZNAME:EDT
DTSTART:20200308T070000
END:DAYLIGHT
BEGIN:STANDARD
TZOFFSETFROM:-0400
TZOFFSETTO:-0500
TZNAME:EST
DTSTART:20201101T060000
END:STANDARD
END:VTIMEZONE
BEGIN:VEVENT
DTSTART;TZID=America/Kentucky/Louisville:20200109T183000
DTEND;TZID=America/Kentucky/Louisville:20200109T203000
DTSTAMP:20260420T124109
CREATED:20190214T161517Z
LAST-MODIFIED:20190214T161517Z
UID:17445-1578594600-1578601800@sbslex.org
SUMMARY:Revive
DESCRIPTION:Revive nights are a great opportunity to get involved with SBS! Moms\, enjoy a night to yourself to be with other young women going through the same experiences as you! We offer transportation\, child care\, a meal\, life skills workshops\, and support groups. Call our office for more information: 859.258.7837.
URL:http://sbslex.org/events/revive-21/
LOCATION:Immanuel Baptist Church\, 3100 Tates Creek Road\, Lexington\, KY\, 40502\, United States
CATEGORIES:For Moms
END:VEVENT
BEGIN:VEVENT
DTSTART;TZID=America/Kentucky/Louisville:20200116T183000
DTEND;TZID=America/Kentucky/Louisville:20200116T203000
DTSTAMP:20260420T124109
CREATED:20190522T153853Z
LAST-MODIFIED:20190522T153853Z
UID:17572-1579199400-1579206600@sbslex.org
SUMMARY:Revive
DESCRIPTION:Revive nights are a great opportunity to get involved with SBS! Moms\, enjoy a night to yourself to be with other young women going through the same experiences as you! We offer transportation\, child care\, a meal\, life skills workshops\, and support groups. Call our office for more information: 859.258.7837.
URL:http://sbslex.org/events/revive-21-2/
LOCATION:Immanuel Baptist Church\, 3100 Tates Creek Road\, Lexington\, KY\, 40502\, United States
CATEGORIES:For Moms
END:VEVENT
BEGIN:VEVENT
DTSTART;TZID=America/Kentucky/Louisville:20200123T183000
DTEND;TZID=America/Kentucky/Louisville:20200123T203000
DTSTAMP:20260420T124109
CREATED:20190214T161554Z
LAST-MODIFIED:20190214T161554Z
UID:17447-1579804200-1579811400@sbslex.org
SUMMARY:Revive
DESCRIPTION:Revive nights are a great opportunity to get involved with SBS! Moms\, enjoy a night to yourself to be with other young women going through the same experiences as you! We offer transportation\, child care\, a meal\, life skills workshops\, and support groups. Call our office for more information: 859.258.7837.
URL:http://sbslex.org/events/revive-22/
LOCATION:Immanuel Baptist Church\, 3100 Tates Creek Road\, Lexington\, KY\, 40502\, United States
CATEGORIES:For Moms
END:VEVENT
BEGIN:VEVENT
DTSTART;TZID=America/Kentucky/Louisville:20200130T183000
DTEND;TZID=America/Kentucky/Louisville:20200130T203000
DTSTAMP:20260420T124109
CREATED:20190522T153926Z
LAST-MODIFIED:20190522T153926Z
UID:17574-1580409000-1580416200@sbslex.org
SUMMARY:Revive
DESCRIPTION:Revive nights are a great opportunity to get involved with SBS! Moms\, enjoy a night to yourself to be with other young women going through the same experiences as you! We offer transportation\, child care\, a meal\, life skills workshops\, and support groups. Call our office for more information: 859.258.7837.
URL:http://sbslex.org/events/revive-22-2/
LOCATION:Immanuel Baptist Church\, 3100 Tates Creek Road\, Lexington\, KY\, 40502\, United States
CATEGORIES:For Moms
END:VEVENT
END:VCALENDAR