BEGIN:VCALENDAR
VERSION:2.0
PRODID:-//Step By Step Lexington - ECPv6.11.2.1//NONSGML v1.0//EN
CALSCALE:GREGORIAN
METHOD:PUBLISH
X-ORIGINAL-URL:http://sbslex.org
X-WR-CALDESC:Events for Step By Step Lexington
REFRESH-INTERVAL;VALUE=DURATION:PT1H
X-Robots-Tag:noindex
X-PUBLISHED-TTL:PT1H
BEGIN:VTIMEZONE
TZID:America/Kentucky/Louisville
BEGIN:DAYLIGHT
TZOFFSETFROM:-0500
TZOFFSETTO:-0400
TZNAME:EDT
DTSTART:20190310T070000
END:DAYLIGHT
BEGIN:STANDARD
TZOFFSETFROM:-0400
TZOFFSETTO:-0500
TZNAME:EST
DTSTART:20191103T060000
END:STANDARD
END:VTIMEZONE
BEGIN:VEVENT
DTSTART;TZID=America/Kentucky/Louisville:20191205T183000
DTEND;TZID=America/Kentucky/Louisville:20191205T203000
DTSTAMP:20260420T140608
CREATED:20190214T161421Z
LAST-MODIFIED:20190214T161421Z
UID:17443-1575570600-1575577800@sbslex.org
SUMMARY:Revive
DESCRIPTION:Revive nights are a great opportunity to get involved with SBS! Moms\, enjoy a night to yourself to be with other young women going through the same experiences as you! We offer transportation\, child care\, a meal\, life skills workshops\, and support groups. Call our office for more information: 859.258.7837.
URL:http://sbslex.org/events/revive-20/
LOCATION:Immanuel Baptist Church\, 3100 Tates Creek Road\, Lexington\, KY\, 40502\, United States
CATEGORIES:For Moms
END:VEVENT
BEGIN:VEVENT
DTSTART;TZID=America/Kentucky/Louisville:20191207T090000
DTEND;TZID=America/Kentucky/Louisville:20191207T110000
DTSTAMP:20260420T140608
CREATED:20190214T163035Z
LAST-MODIFIED:20190214T163035Z
UID:17479-1575709200-1575716400@sbslex.org
SUMMARY:Christmas Store
DESCRIPTION:For our moms that have worked hard all season to earn incentive points\, we are hosting our annual Christmas Store\, where our moms can shop for Christmas gifts for their kids. \nFor more information on making donations for this event\, call our office: 859.258.7837.
URL:http://sbslex.org/events/christmas-store-2/
CATEGORIES:For Moms
END:VEVENT
BEGIN:VEVENT
DTSTART;TZID=America/Kentucky/Louisville:20191210T183000
DTEND;TZID=America/Kentucky/Louisville:20191210T203000
DTSTAMP:20260420T140608
CREATED:20190214T162607Z
LAST-MODIFIED:20190522T153720Z
UID:17468-1576002600-1576009800@sbslex.org
SUMMARY:Leader Meeting
DESCRIPTION:All SBS volunteers are invited to join us for our Volunteer Christmas Party!
URL:http://sbslex.org/events/leader-meeting-10/
LOCATION:Immanuel Baptist Church\, 3100 Tates Creek Road\, Lexington\, KY\, 40502\, United States
CATEGORIES:For Volunteers
END:VEVENT
BEGIN:VEVENT
DTSTART;TZID=America/Kentucky/Louisville:20191212T183000
DTEND;TZID=America/Kentucky/Louisville:20191212T203000
DTSTAMP:20260420T140608
CREATED:20190522T153800Z
LAST-MODIFIED:20190522T153800Z
UID:17570-1576175400-1576182600@sbslex.org
SUMMARY:Revive
DESCRIPTION:Revive nights are a great opportunity to get involved with SBS! Moms\, enjoy a night to yourself to be with other young women going through the same experiences as you! We offer transportation\, child care\, a meal\, life skills workshops\, and support groups. Call our office for more information: 859.258.7837.
URL:http://sbslex.org/events/revive-20-2/
LOCATION:Immanuel Baptist Church\, 3100 Tates Creek Road\, Lexington\, KY\, 40502\, United States
CATEGORIES:For Moms
END:VEVENT
END:VCALENDAR