BEGIN:VCALENDAR
VERSION:2.0
PRODID:-//Step By Step Lexington - ECPv6.11.2.1//NONSGML v1.0//EN
CALSCALE:GREGORIAN
METHOD:PUBLISH
X-ORIGINAL-URL:http://sbslex.org
X-WR-CALDESC:Events for Step By Step Lexington
REFRESH-INTERVAL;VALUE=DURATION:PT1H
X-Robots-Tag:noindex
X-PUBLISHED-TTL:PT1H
BEGIN:VTIMEZONE
TZID:America/Kentucky/Louisville
BEGIN:DAYLIGHT
TZOFFSETFROM:-0500
TZOFFSETTO:-0400
TZNAME:EDT
DTSTART:20190310T070000
END:DAYLIGHT
BEGIN:STANDARD
TZOFFSETFROM:-0400
TZOFFSETTO:-0500
TZNAME:EST
DTSTART:20191103T060000
END:STANDARD
END:VTIMEZONE
BEGIN:VEVENT
DTSTART;TZID=America/Kentucky/Louisville:20191010T183000
DTEND;TZID=America/Kentucky/Louisville:20191010T203000
DTSTAMP:20260420T172701
CREATED:20190214T161021Z
LAST-MODIFIED:20190214T161021Z
UID:17434-1570732200-1570739400@sbslex.org
SUMMARY:Revive
DESCRIPTION:Revive nights are a great opportunity to get involved with SBS! Moms\, enjoy a night to yourself to be with other young women going through the same experiences as you! We offer transportation\, child care\, a meal\, life skills workshops\, and support groups. Call our office for more information: 859.258.7837.
URL:http://sbslex.org/events/revive-16/
LOCATION:Immanuel Baptist Church\, 3100 Tates Creek Road\, Lexington\, KY\, 40502\, United States
CATEGORIES:For Moms
END:VEVENT
BEGIN:VEVENT
DTSTART;TZID=America/Kentucky/Louisville:20191017T183000
DTEND;TZID=America/Kentucky/Louisville:20191017T203000
DTSTAMP:20260420T172701
CREATED:20190522T153546Z
LAST-MODIFIED:20190522T153546Z
UID:17563-1571337000-1571344200@sbslex.org
SUMMARY:Revive
DESCRIPTION:Revive nights are a great opportunity to get involved with SBS! Moms\, enjoy a night to yourself to be with other young women going through the same experiences as you! We offer transportation\, child care\, a meal\, life skills workshops\, and support groups. Call our office for more information: 859.258.7837.
URL:http://sbslex.org/events/revive-5-3/
LOCATION:Immanuel Baptist Church\, 3100 Tates Creek Road\, Lexington\, KY\, 40502\, United States
CATEGORIES:For Moms
END:VEVENT
BEGIN:VEVENT
DTSTART;TZID=America/Kentucky/Louisville:20191019T110000
DTEND;TZID=America/Kentucky/Louisville:20191020T140000
DTSTAMP:20260420T172701
CREATED:20190214T162409Z
LAST-MODIFIED:20190214T162409Z
UID:17464-1571482800-1571580000@sbslex.org
SUMMARY:Fortify Leaders Retreat
DESCRIPTION:SBS mentors and support group leaders are invited to a weekend of fellowship\, fun\, and growing in Christ together.
URL:http://sbslex.org/events/fortify-leaders-retreat/
CATEGORIES:For Volunteers
END:VEVENT
BEGIN:VEVENT
DTSTART;TZID=America/Kentucky/Louisville:20191024T183000
DTEND;TZID=America/Kentucky/Louisville:20191024T203000
DTSTAMP:20260420T172701
CREATED:20190214T161104Z
LAST-MODIFIED:20190214T161104Z
UID:17436-1571941800-1571949000@sbslex.org
SUMMARY:Revive
DESCRIPTION:Revive nights are a great opportunity to get involved with SBS! Moms\, enjoy a night to yourself to be with other young women going through the same experiences as you! We offer transportation\, child care\, a meal\, life skills workshops\, and support groups. Call our office for more information: 859.258.7837.
URL:http://sbslex.org/events/revive-17/
LOCATION:Immanuel Baptist Church\, 3100 Tates Creek Road\, Lexington\, KY\, 40502\, United States
CATEGORIES:For Moms
END:VEVENT
BEGIN:VEVENT
DTSTART;TZID=America/Kentucky/Louisville:20191025T173000
DTEND;TZID=America/Kentucky/Louisville:20191025T203000
DTSTAMP:20260420T172701
CREATED:20190815T203916Z
LAST-MODIFIED:20221024T121415Z
UID:17655-1572024600-1572035400@sbslex.org
SUMMARY:Lex Go Huntin'
DESCRIPTION:It’s time for our third annual Lex Go Huntin’\, a scavenger hunt in downtown Lexington! Form a team of four and join us on October 25 for some fun and friendly competition\, all to support Step By Step. \n  \nWHEN \nFriday\, October 25 | at 5:30pm-8:30pm \nFor tickets go to >> https://fs26.formsite.com/PYsYNS/cfwhs2wcji/index.html \n  \nHOW | TICKETS $100 PER TEAM \nGather a team of 2-4 people and prepare to hit the town! Every team will receive a list of 25 photo challenges spread across downtown Lexington. Once you get your challenges you and your team will go huntin’ from 6-8 pm\, completing as many as possible\, racking up points along the way. \n  \nWHERE \nRegistration will begin at 5:30pm. After your team is done huntin’ we will meet at 21C for the after party\, where the winners will be announced at 8:15pm. \n  \n*Registration and participation is restricted to those individuals 21 years of age or over. \nGet your tickets here
URL:http://sbslex.org/events/lex-go-huntin-2/
END:VEVENT
END:VCALENDAR