BEGIN:VCALENDAR
VERSION:2.0
PRODID:-//Step By Step Lexington - ECPv6.11.2.1//NONSGML v1.0//EN
CALSCALE:GREGORIAN
METHOD:PUBLISH
X-ORIGINAL-URL:http://sbslex.org
X-WR-CALDESC:Events for Step By Step Lexington
REFRESH-INTERVAL;VALUE=DURATION:PT1H
X-Robots-Tag:noindex
X-PUBLISHED-TTL:PT1H
BEGIN:VTIMEZONE
TZID:America/Kentucky/Louisville
BEGIN:DAYLIGHT
TZOFFSETFROM:-0500
TZOFFSETTO:-0400
TZNAME:EDT
DTSTART:20190310T070000
END:DAYLIGHT
BEGIN:STANDARD
TZOFFSETFROM:-0400
TZOFFSETTO:-0500
TZNAME:EST
DTSTART:20191103T060000
END:STANDARD
END:VTIMEZONE
BEGIN:VEVENT
DTSTART;TZID=America/Kentucky/Louisville:20190910T173000
DTEND;TZID=America/Kentucky/Louisville:20190910T193000
DTSTAMP:20260420T185647
CREATED:20190214T152620Z
LAST-MODIFIED:20190214T152620Z
UID:17425-1568136600-1568143800@sbslex.org
SUMMARY:Revive Kids Volunteer Training
DESCRIPTION:Training night for volunteers that work with our kids on Revive nights. \nInterested in volunteering with our kids? Head over to our volunteer page and fill out a volunteer application!
URL:http://sbslex.org/events/revive-kids-volunteer-training-3/
LOCATION:Immanuel Baptist Church\, 3100 Tates Creek Road\, Lexington\, KY\, 40502\, United States
CATEGORIES:For Volunteers
END:VEVENT
BEGIN:VEVENT
DTSTART;TZID=America/Kentucky/Louisville:20190911T173000
DTEND;TZID=America/Kentucky/Louisville:20190911T193000
DTSTAMP:20260420T185647
CREATED:20190214T152726Z
LAST-MODIFIED:20190214T152726Z
UID:17427-1568223000-1568230200@sbslex.org
SUMMARY:Revive Kids Volunteer Training
DESCRIPTION:Training night for volunteers that work with our kids on Revive nights. \nInterested in volunteering with our kids? Head over to our volunteer page and fill out a volunteer application!
URL:http://sbslex.org/events/revive-kids-volunteer-training-4/
CATEGORIES:For Volunteers
END:VEVENT
BEGIN:VEVENT
DTSTART;TZID=America/Kentucky/Louisville:20190912T183000
DTEND;TZID=America/Kentucky/Louisville:20190912T203000
DTSTAMP:20260420T185647
CREATED:20190214T160725Z
LAST-MODIFIED:20190214T160814Z
UID:17429-1568313000-1568320200@sbslex.org
SUMMARY:Revive
DESCRIPTION:Revive nights are a great opportunity to get involved with SBS! Moms\, enjoy a night to yourself to be with other young women going through the same experiences as you! We offer transportation\, child care\, a meal\, life skills workshops\, and support groups. Call our office for more information: 859.258.7837.
URL:http://sbslex.org/events/revive-5/
LOCATION:Immanuel Baptist Church\, 3100 Tates Creek Road\, Lexington\, KY\, 40502\, United States
CATEGORIES:For Moms
END:VEVENT
BEGIN:VEVENT
DTSTART;TZID=America/Kentucky/Louisville:20190914T090000
DTEND;TZID=America/Kentucky/Louisville:20190914T150000
DTSTAMP:20260420T185647
CREATED:20190522T155308Z
LAST-MODIFIED:20190522T155308Z
UID:17586-1568451600-1568473200@sbslex.org
SUMMARY:Fortify Leaders Training
DESCRIPTION:All-day training for Revive Leaders\, Mentors\, and Revive Kids Leaders.
URL:http://sbslex.org/events/fortify-leaders-training/
CATEGORIES:For Volunteers
END:VEVENT
BEGIN:VEVENT
DTSTART;TZID=America/Kentucky/Louisville:20190919T183000
DTEND;TZID=America/Kentucky/Louisville:20190919T203000
DTSTAMP:20260420T185647
CREATED:20190522T153511Z
LAST-MODIFIED:20190522T153511Z
UID:17562-1568917800-1568925000@sbslex.org
SUMMARY:Revive
DESCRIPTION:Revive nights are a great opportunity to get involved with SBS! Moms\, enjoy a night to yourself to be with other young women going through the same experiences as you! We offer transportation\, child care\, a meal\, life skills workshops\, and support groups. Call our office for more information: 859.258.7837.
URL:http://sbslex.org/events/revive-5-2/
LOCATION:Immanuel Baptist Church\, 3100 Tates Creek Road\, Lexington\, KY\, 40502\, United States
CATEGORIES:For Moms
END:VEVENT
BEGIN:VEVENT
DTSTART;TZID=America/Kentucky/Louisville:20190926T183000
DTEND;TZID=America/Kentucky/Louisville:20190926T203000
DTSTAMP:20260420T185647
CREATED:20190214T160921Z
LAST-MODIFIED:20190214T160929Z
UID:17432-1569522600-1569529800@sbslex.org
SUMMARY:Revive
DESCRIPTION:Revive nights are a great opportunity to get involved with SBS! Moms\, enjoy a night to yourself to be with other young women going through the same experiences as you! We offer transportation\, child care\, a meal\, life skills workshops\, and support groups. Call our office for more information: 859.258.7837.
URL:http://sbslex.org/events/revive-15/
LOCATION:Immanuel Baptist Church\, 3100 Tates Creek Road\, Lexington\, KY\, 40502\, United States
CATEGORIES:For Moms
END:VEVENT
END:VCALENDAR