BEGIN:VCALENDAR
VERSION:2.0
PRODID:-//Step By Step Lexington - ECPv6.11.2.1//NONSGML v1.0//EN
CALSCALE:GREGORIAN
METHOD:PUBLISH
X-ORIGINAL-URL:http://sbslex.org
X-WR-CALDESC:Events for Step By Step Lexington
REFRESH-INTERVAL;VALUE=DURATION:PT1H
X-Robots-Tag:noindex
X-PUBLISHED-TTL:PT1H
BEGIN:VTIMEZONE
TZID:America/Kentucky/Louisville
BEGIN:DAYLIGHT
TZOFFSETFROM:-0500
TZOFFSETTO:-0400
TZNAME:EDT
DTSTART:20190310T070000
END:DAYLIGHT
BEGIN:STANDARD
TZOFFSETFROM:-0400
TZOFFSETTO:-0500
TZNAME:EST
DTSTART:20191103T060000
END:STANDARD
END:VTIMEZONE
BEGIN:VEVENT
DTSTART;TZID=America/Kentucky/Louisville:20190718T183000
DTEND;TZID=America/Kentucky/Louisville:20190718T203000
DTSTAMP:20260420T234254
CREATED:20190211T213935Z
LAST-MODIFIED:20190211T214512Z
UID:17403-1563474600-1563481800@sbslex.org
SUMMARY:Revive: The Summer Series
DESCRIPTION:We’re so excited to be offering Revive nights in the summer for the first time ever! Moms\, we will still be providing transportation\, a meal\, childcare\, and community with other young moms.
URL:http://sbslex.org/events/revive-the-summer-series-3/
LOCATION:Immanuel Baptist Church\, 3100 Tates Creek Road\, Lexington\, KY\, 40502\, United States
CATEGORIES:For Moms
ATTACH;FMTTYPE=image/png:http://sbslex.org/wp-content/uploads/2019/02/SBS-Summer-Revive-Graphic-01.png
END:VEVENT
END:VCALENDAR