BEGIN:VCALENDAR
VERSION:2.0
PRODID:-//Step By Step Lexington - ECPv6.11.2.1//NONSGML v1.0//EN
CALSCALE:GREGORIAN
METHOD:PUBLISH
X-ORIGINAL-URL:http://sbslex.org
X-WR-CALDESC:Events for Step By Step Lexington
REFRESH-INTERVAL;VALUE=DURATION:PT1H
X-Robots-Tag:noindex
X-PUBLISHED-TTL:PT1H
BEGIN:VTIMEZONE
TZID:America/Kentucky/Louisville
BEGIN:DAYLIGHT
TZOFFSETFROM:-0500
TZOFFSETTO:-0400
TZNAME:EDT
DTSTART:20190310T070000
END:DAYLIGHT
BEGIN:STANDARD
TZOFFSETFROM:-0400
TZOFFSETTO:-0500
TZNAME:EST
DTSTART:20191103T060000
END:STANDARD
END:VTIMEZONE
BEGIN:VEVENT
DTSTART;TZID=America/Kentucky/Louisville:20190411T183000
DTEND;TZID=America/Kentucky/Louisville:20190411T203000
DTSTAMP:20260421T073258
CREATED:20180710T143801Z
LAST-MODIFIED:20180809T145829Z
UID:16991-1555007400-1555014600@sbslex.org
SUMMARY:Revive - Housewarming Party
DESCRIPTION:Revive nights are a great opportunity to get involved with SBS! Moms\, enjoy a night to yourself to be with other young women going through the same experiences as you! We offer transportation\, child care\, a meal\, life skills workshops\, and support groups. Call our office for more information: 859.258.7837. \nFor our moms that have worked hard all season earning incentive points and working towards their goals\, we are hosting our annual Housewarming Party. Shop in our “store” for household items to help you furnish your homes. \nFor more information on making donations our volunteering for this event\, call our office: 859.258.7837.
URL:http://sbslex.org/events/revive-13/
LOCATION:Immanuel Baptist Church\, 3100 Tates Creek Road\, Lexington\, KY\, 40502\, United States
CATEGORIES:For Moms
END:VEVENT
BEGIN:VEVENT
DTSTART;TZID=America/Kentucky/Louisville:20190418T183000
DTEND;TZID=America/Kentucky/Louisville:20190418T203000
DTSTAMP:20260421T073259
CREATED:20180710T144616Z
LAST-MODIFIED:20180809T143346Z
UID:17010-1555612200-1555619400@sbslex.org
SUMMARY:Leader Meeting
DESCRIPTION:All SBS volunteers are invited to join us for our final Leader Meeting of the year. Come celebrate a great season with us!
URL:http://sbslex.org/events/leader-meeting-7/
LOCATION:Immanuel Baptist Church\, 3100 Tates Creek Road\, Lexington\, KY\, 40502\, United States
CATEGORIES:For Volunteers
END:VEVENT
BEGIN:VEVENT
DTSTART;TZID=America/Kentucky/Louisville:20190425T183000
DTEND;TZID=America/Kentucky/Louisville:20190425T203000
DTSTAMP:20260421T073259
CREATED:20180710T143834Z
LAST-MODIFIED:20180809T145758Z
UID:16993-1556217000-1556224200@sbslex.org
SUMMARY:Revive
DESCRIPTION:Revive nights are a great opportunity to get involved with SBS! Moms\, enjoy a night to yourself to be with other young women going through the same experiences as you! We offer transportation\, child care\, a meal\, life skills workshops\, and support groups. Call our office for more information: 859.258.7837.
URL:http://sbslex.org/events/revive-14/
LOCATION:Immanuel Baptist Church\, 3100 Tates Creek Road\, Lexington\, KY\, 40502\, United States
CATEGORIES:For Moms
END:VEVENT
BEGIN:VEVENT
DTSTART;TZID=America/Kentucky/Louisville:20190427T080000
DTEND;TZID=America/Kentucky/Louisville:20190427T170000
DTSTAMP:20260421T073259
CREATED:20180710T143913Z
LAST-MODIFIED:20190214T164748Z
UID:16995-1556352000-1556384400@sbslex.org
SUMMARY:Mom's Retreat
DESCRIPTION:Our annual Mom’s Retreat to close out the season. This year\, we are having a guest speaker and fun workshops for moms and a field day for the kids.
URL:http://sbslex.org/events/moms-retreat/
LOCATION:KY\, United States
CATEGORIES:For Moms
END:VEVENT
END:VCALENDAR