BEGIN:VCALENDAR
VERSION:2.0
PRODID:-//Step By Step Lexington - ECPv6.11.2.1//NONSGML v1.0//EN
CALSCALE:GREGORIAN
METHOD:PUBLISH
X-ORIGINAL-URL:http://sbslex.org
X-WR-CALDESC:Events for Step By Step Lexington
REFRESH-INTERVAL;VALUE=DURATION:PT1H
X-Robots-Tag:noindex
X-PUBLISHED-TTL:PT1H
BEGIN:VTIMEZONE
TZID:America/Kentucky/Louisville
BEGIN:DAYLIGHT
TZOFFSETFROM:-0500
TZOFFSETTO:-0400
TZNAME:EDT
DTSTART:20190310T070000
END:DAYLIGHT
BEGIN:STANDARD
TZOFFSETFROM:-0400
TZOFFSETTO:-0500
TZNAME:EST
DTSTART:20191103T060000
END:STANDARD
END:VTIMEZONE
BEGIN:VEVENT
DTSTART;TZID=America/Kentucky/Louisville:20190307T183000
DTEND;TZID=America/Kentucky/Louisville:20190307T203000
DTSTAMP:20260421T090843
CREATED:20180710T143632Z
LAST-MODIFIED:20180809T150003Z
UID:16987-1551983400-1551990600@sbslex.org
SUMMARY:Revive
DESCRIPTION:Revive nights are a great opportunity to get involved with SBS! Moms\, enjoy a night to yourself to be with other young women going through the same experiences as you! We offer transportation\, child care\, a meal\, life skills workshops\, and support groups. Call our office for more information: 859.258.7837.
URL:http://sbslex.org/events/revive-11/
LOCATION:Immanuel Baptist Church\, 3100 Tates Creek Road\, Lexington\, KY\, 40502\, United States
CATEGORIES:For Moms
END:VEVENT
BEGIN:VEVENT
DTSTART;TZID=America/Kentucky/Louisville:20190314T183000
DTEND;TZID=America/Kentucky/Louisville:20190314T203000
DTSTAMP:20260421T090843
CREATED:20180710T144546Z
LAST-MODIFIED:20180809T143143Z
UID:17008-1552588200-1552595400@sbslex.org
SUMMARY:Leader Meeting
DESCRIPTION:Come together with other SBS support group leaders and mentors for fellowship and support!
URL:http://sbslex.org/events/leader-meeting-6/
LOCATION:Immanuel Baptist Church\, 3100 Tates Creek Road\, Lexington\, KY\, 40502\, United States
CATEGORIES:For Volunteers
END:VEVENT
BEGIN:VEVENT
DTSTART;TZID=America/Kentucky/Louisville:20190321T183000
DTEND;TZID=America/Kentucky/Louisville:20190321T203000
DTSTAMP:20260421T090843
CREATED:20180710T143713Z
LAST-MODIFIED:20180809T145941Z
UID:16989-1553193000-1553200200@sbslex.org
SUMMARY:Revive
DESCRIPTION:Revive nights are a great opportunity to get involved with SBS! Moms\, enjoy a night to yourself to be with other young women going through the same experiences as you! We offer transportation\, child care\, a meal\, life skills workshops\, and support groups. Call our office for more information: 859.258.7837.
URL:http://sbslex.org/events/revive-12/
LOCATION:Immanuel Baptist Church\, 3100 Tates Creek Road\, Lexington\, KY\, 40502\, United States
CATEGORIES:For Moms
END:VEVENT
BEGIN:VEVENT
DTSTART;TZID=America/Kentucky/Louisville:20190323T130000
DTEND;TZID=America/Kentucky/Louisville:20190323T150000
DTSTAMP:20260421T090843
CREATED:20180809T152642Z
LAST-MODIFIED:20221024T121415Z
UID:17203-1553346000-1553353200@sbslex.org
SUMMARY:Step Into Beautiful
DESCRIPTION:Save the date for our annual tea and fashion show! \nClick here for more information
URL:http://sbslex.org/events/step-into-beautiful/
ORGANIZER;CN="SBS Team":MAILTO:alicias@sbslex.org
END:VEVENT
END:VCALENDAR