BEGIN:VCALENDAR
VERSION:2.0
PRODID:-//Step By Step Lexington - ECPv6.11.2.1//NONSGML v1.0//EN
CALSCALE:GREGORIAN
METHOD:PUBLISH
X-ORIGINAL-URL:http://sbslex.org
X-WR-CALDESC:Events for Step By Step Lexington
REFRESH-INTERVAL;VALUE=DURATION:PT1H
X-Robots-Tag:noindex
X-PUBLISHED-TTL:PT1H
BEGIN:VTIMEZONE
TZID:America/Kentucky/Louisville
BEGIN:DAYLIGHT
TZOFFSETFROM:-0500
TZOFFSETTO:-0400
TZNAME:EDT
DTSTART:20180311T070000
END:DAYLIGHT
BEGIN:STANDARD
TZOFFSETFROM:-0400
TZOFFSETTO:-0500
TZNAME:EST
DTSTART:20181104T060000
END:STANDARD
END:VTIMEZONE
BEGIN:VEVENT
DTSTART;TZID=America/Kentucky/Louisville:20181206T183000
DTEND;TZID=America/Kentucky/Louisville:20181206T203000
DTSTAMP:20260421T133640
CREATED:20180809T150427Z
LAST-MODIFIED:20180809T151409Z
UID:17189-1544121000-1544128200@sbslex.org
SUMMARY:Revive
DESCRIPTION:Revive nights are a great opportunity to get involved with SBS! Moms\, enjoy a night to yourself to be with other young women going through the same experiences as you! We offer transportation\, child care\, a meal\, life skills workshops\, and support groups. Call our office for more information: 859.258.7837.
URL:http://sbslex.org/events/revive/
LOCATION:Immanuel Baptist Church\, 3100 Tates Creek Road\, Lexington\, KY\, 40502\, United States
CATEGORIES:For Moms
END:VEVENT
BEGIN:VEVENT
DTSTART;TZID=America/Kentucky/Louisville:20181208T090000
DTEND;TZID=America/Kentucky/Louisville:20181208T110000
DTSTAMP:20260421T133640
CREATED:20180710T143324Z
LAST-MODIFIED:20180809T141407Z
UID:16977-1544259600-1544266800@sbslex.org
SUMMARY:Christmas Store
DESCRIPTION:For our moms that have worked hard all season to earn incentive points\, we are hosting our annual Christmas Store\, where our moms can shop for Christmas gifts for their kids. \nFor more information on making donations for this event\, call our office: 859.258.7837.
URL:http://sbslex.org/events/christmas-store/
LOCATION:Immanuel Baptist Church\, 3100 Tates Creek Road\, Lexington\, KY\, 40502\, United States
CATEGORIES:For Moms
END:VEVENT
BEGIN:VEVENT
DTSTART;TZID=America/Kentucky/Louisville:20181213T183000
DTEND;TZID=America/Kentucky/Louisville:20181213T203000
DTSTAMP:20260421T133640
CREATED:20180710T144311Z
LAST-MODIFIED:20180809T143301Z
UID:17002-1544725800-1544733000@sbslex.org
SUMMARY:Leader Meeting
DESCRIPTION:All SBS volunteers are invited to join us for our Volunteer Christmas Party!
URL:http://sbslex.org/events/leader-meeting-3/
LOCATION:Immanuel Baptist Church\, 3100 Tates Creek Road\, Lexington\, KY\, 40502\, United States
CATEGORIES:For Volunteers
END:VEVENT
END:VCALENDAR