BEGIN:VCALENDAR
VERSION:2.0
PRODID:-//Step By Step Lexington - ECPv6.11.2.1//NONSGML v1.0//EN
CALSCALE:GREGORIAN
METHOD:PUBLISH
X-ORIGINAL-URL:http://sbslex.org
X-WR-CALDESC:Events for Step By Step Lexington
REFRESH-INTERVAL;VALUE=DURATION:PT1H
X-Robots-Tag:noindex
X-PUBLISHED-TTL:PT1H
BEGIN:VTIMEZONE
TZID:America/Kentucky/Louisville
BEGIN:DAYLIGHT
TZOFFSETFROM:-0500
TZOFFSETTO:-0400
TZNAME:EDT
DTSTART:20210314T070000
END:DAYLIGHT
BEGIN:STANDARD
TZOFFSETFROM:-0400
TZOFFSETTO:-0500
TZNAME:EST
DTSTART:20211107T060000
END:STANDARD
END:VTIMEZONE
BEGIN:VEVENT
DTSTART;TZID=America/Kentucky/Louisville:20210805T193000
DTEND;TZID=America/Kentucky/Louisville:20210805T203000
DTSTAMP:20260419T103140
CREATED:20210609T164311Z
LAST-MODIFIED:20210609T164557Z
UID:108878-1628191800-1628195400@sbslex.org
SUMMARY:Online Revive
DESCRIPTION:Join us for a time of community and connection with other young single moms. \nTo get info about joining Online Revive\, sign up here. \nIf you are new to Step By Step\, fill out the registration form here.
URL:http://sbslex.org/events/online-revive18/
LOCATION:Online
CATEGORIES:For Moms
END:VEVENT
END:VCALENDAR