BEGIN:VCALENDAR
VERSION:2.0
PRODID:-//Step By Step Lexington - ECPv6.11.2.1//NONSGML v1.0//EN
CALSCALE:GREGORIAN
METHOD:PUBLISH
X-ORIGINAL-URL:http://sbslex.org
X-WR-CALDESC:Events for Step By Step Lexington
REFRESH-INTERVAL;VALUE=DURATION:PT1H
X-Robots-Tag:noindex
X-PUBLISHED-TTL:PT1H
BEGIN:VTIMEZONE
TZID:America/Kentucky/Louisville
BEGIN:DAYLIGHT
TZOFFSETFROM:-0500
TZOFFSETTO:-0400
TZNAME:EDT
DTSTART:20210314T070000
END:DAYLIGHT
BEGIN:STANDARD
TZOFFSETFROM:-0400
TZOFFSETTO:-0500
TZNAME:EST
DTSTART:20211107T060000
END:STANDARD
END:VTIMEZONE
BEGIN:VEVENT
DTSTART;TZID=America/Kentucky/Louisville:20210617T193000
DTEND;TZID=America/Kentucky/Louisville:20210617T203000
DTSTAMP:20260419T131732
CREATED:20210609T155502Z
LAST-MODIFIED:20210609T155702Z
UID:108860-1623958200-1623961800@sbslex.org
SUMMARY:Online Revive
DESCRIPTION:We’re baking together tonight! Make sure you contact our office before 6/16 if you plan to attend and need supplies.  \nTo get info about joining Online Revive\, sign up here. \nIf you are new to Step By Step\, fill out the registration form here.
URL:http://sbslex.org/events/online-revive13/
LOCATION:Online
CATEGORIES:For Moms
END:VEVENT
END:VCALENDAR