BEGIN:VCALENDAR
VERSION:2.0
PRODID:-//Step By Step Lexington - ECPv6.11.2.1//NONSGML v1.0//EN
CALSCALE:GREGORIAN
METHOD:PUBLISH
X-WR-CALNAME:Step By Step Lexington
X-ORIGINAL-URL:http://sbslex.org
X-WR-CALDESC:Events for Step By Step Lexington
REFRESH-INTERVAL;VALUE=DURATION:PT1H
X-Robots-Tag:noindex
X-PUBLISHED-TTL:PT1H
BEGIN:VTIMEZONE
TZID:America/Kentucky/Louisville
BEGIN:DAYLIGHT
TZOFFSETFROM:-0500
TZOFFSETTO:-0400
TZNAME:EDT
DTSTART:20190310T070000
END:DAYLIGHT
BEGIN:STANDARD
TZOFFSETFROM:-0400
TZOFFSETTO:-0500
TZNAME:EST
DTSTART:20191103T060000
END:STANDARD
END:VTIMEZONE
BEGIN:VEVENT
DTSTART;TZID=America/Kentucky/Louisville:20190810T090000
DTEND;TZID=America/Kentucky/Louisville:20190810T150000
DTSTAMP:20260421T025621
CREATED:20190529T162048Z
LAST-MODIFIED:20190529T162131Z
UID:17589-1565427600-1565449200@sbslex.org
SUMMARY:Echo & Resound Leadership Training
DESCRIPTION:Training day for our SBS Echo & Resound mom leaders.
URL:http://sbslex.org/events/echo-resound-leadership-training/
END:VEVENT
END:VCALENDAR