BEGIN:VCALENDAR
VERSION:2.0
PRODID:-//Step By Step Lexington - ECPv6.11.2.1//NONSGML v1.0//EN
CALSCALE:GREGORIAN
METHOD:PUBLISH
X-ORIGINAL-URL:http://sbslex.org
X-WR-CALDESC:Events for Step By Step Lexington
REFRESH-INTERVAL;VALUE=DURATION:PT1H
X-Robots-Tag:noindex
X-PUBLISHED-TTL:PT1H
BEGIN:VTIMEZONE
TZID:America/Kentucky/Louisville
BEGIN:DAYLIGHT
TZOFFSETFROM:-0500
TZOFFSETTO:-0400
TZNAME:EDT
DTSTART:20190310T070000
END:DAYLIGHT
BEGIN:STANDARD
TZOFFSETFROM:-0400
TZOFFSETTO:-0500
TZNAME:EST
DTSTART:20191103T060000
END:STANDARD
END:VTIMEZONE
BEGIN:VEVENT
DTSTART;TZID=America/Kentucky/Louisville:20190323T130000
DTEND;TZID=America/Kentucky/Louisville:20190323T150000
DTSTAMP:20260421T103522
CREATED:20180809T152642Z
LAST-MODIFIED:20221024T121415Z
UID:17203-1553346000-1553353200@sbslex.org
SUMMARY:Step Into Beautiful
DESCRIPTION:Save the date for our annual tea and fashion show! \nClick here for more information
URL:http://sbslex.org/events/step-into-beautiful/
ORGANIZER;CN="SBS Team":MAILTO:alicias@sbslex.org
END:VEVENT
END:VCALENDAR